BEGIN:VCALENDAR
PRODID:-//Feedo Feed//NONSGML v1.0//EN
VERSION:2.0
CALSCALE:GREGORIAN
METHOD:PUBLISH
X-WR-CALNAME:String Camp Dunwoody
X-WR-CALDESC:
X-MS-OLK-FORCEINSPECTOROPEN:TRUE
BEGIN:VEVENT
DTSTAMP:20260421T170728Z
DTSTART:20220722T160000Z
DTEND:20220722T220000Z
TRANSP:TRANSPARENT
UID:1062812022-07-22
SUMMARY:String Camp Dunwoody
DESCRIPTION:
URL:http://www.cmcatlanta.com/index.php/component/ohanah/tbd-1?format=html&amp;Itemid=
CATEGORIES:Jack Lloyd
GEO:33.94902;-84.33631689999999
LOCATION:CMC Dunwoody, Faculty Assignment
END:VEVENT
END:VCALENDAR