BEGIN:VCALENDAR
PRODID:-//Feedo Feed//NONSGML v1.0//EN
VERSION:2.0
CALSCALE:GREGORIAN
METHOD:PUBLISH
X-WR-CALNAME:Terri Hyde
X-WR-CALDESC:In person.\nMom of Sasha and Dylan.  Adult beginner.  
X-MS-OLK-FORCEINSPECTOROPEN:TRUE
BEGIN:VEVENT
DTSTAMP:20260420T182004Z
DTSTART:20201109T220000Z
DTEND:20201109T223000Z
TRANSP:TRANSPARENT
UID:918572020-11-09
SUMMARY:Terri Hyde
DESCRIPTION:In person.\nMom of Sasha and Dylan.  Adult beginner.  
URL:http://www.cmcatlanta.com/index.php/component/ohanah/terri-hyde-11?format=html&amp;Itemid=
CATEGORIES:Peter Sloan
GEO:33.7646878;-84.35068100000001
LOCATION:CMC Little 5 Points, Private Lesson
END:VEVENT
END:VCALENDAR