BEGIN:VCALENDAR
PRODID:-//Feedo Feed//NONSGML v1.0//EN
VERSION:2.0
CALSCALE:GREGORIAN
METHOD:PUBLISH
X-WR-CALNAME:Thanksgiving Break 
X-WR-CALDESC:All programs and classes closed from Monday, November 22nd through Sunday, November 28th.  We will reopen on Monday, November 29th.  
X-MS-OLK-FORCEINSPECTOROPEN:TRUE
BEGIN:VEVENT
DTSTAMP:20260424T144123Z
DTSTART:20211122T120000Z
DTEND:20211129T000000Z
TRANSP:TRANSPARENT
UID:1049862021-11-22
SUMMARY:Thanksgiving Break 
DESCRIPTION:All programs and classes closed from Monday, November 22nd through Sunday, November 28th.  We will reopen on Monday, November 29th.  
URL:http://www.cmcatlanta.com/index.php/component/ohanah/thanksgiving-break-1?format=html&amp;Itemid=
CATEGORIES:Master Calendar
GEO:33.7646878;-84.35068100000001
LOCATION:CMC Atlanta
END:VEVENT
END:VCALENDAR