BEGIN:VCALENDAR
PRODID:-//Feedo Feed//NONSGML v1.0//EN
VERSION:2.0
CALSCALE:GREGORIAN
METHOD:PUBLISH
X-WR-CALNAME:Thanksgiving Break 
X-WR-CALDESC:
X-MS-OLK-FORCEINSPECTOROPEN:TRUE
BEGIN:VEVENT
DTSTAMP:20260422T124203Z
DTSTART:20221121T100000Z
DTEND:20221127T220000Z
TRANSP:TRANSPARENT
UID:1060662022-11-21
SUMMARY:Thanksgiving Break 
DESCRIPTION:
URL:http://www.cmcatlanta.com/index.php/component/ohanah/thanksgiving-break-2?format=html&amp;Itemid=
CATEGORIES:Master Calendar
GEO:33.7646878;-84.35068100000001
LOCATION:CMC Atlanta
END:VEVENT
END:VCALENDAR