BEGIN:VCALENDAR
PRODID:-//Feedo Feed//NONSGML v1.0//EN
VERSION:2.0
CALSCALE:GREGORIAN
METHOD:PUBLISH
X-WR-CALNAME:Thanksgiving Break
X-WR-CALDESC:All CMC Atlanta locations closed for Thanksgiving week.  
X-MS-OLK-FORCEINSPECTOROPEN:TRUE
BEGIN:VEVENT
DTSTAMP:20260420T182116Z
DTSTART:20201123T040000Z
DTEND:20201129T220000Z
TRANSP:TRANSPARENT
UID:939032020-11-23
SUMMARY:Thanksgiving Break
DESCRIPTION:All CMC Atlanta locations closed for Thanksgiving week.  
URL:http://www.cmcatlanta.com/index.php/component/ohanah/thanksgiving-break?format=html&amp;Itemid=
CATEGORIES:Master Calendar
GEO:33.7646878;-84.35068100000001
LOCATION:CMC Little 5 Points 
END:VEVENT
END:VCALENDAR