BEGIN:VCALENDAR
PRODID:-//Feedo Feed//NONSGML v1.0//EN
VERSION:2.0
CALSCALE:GREGORIAN
METHOD:PUBLISH
X-WR-CALNAME:Theo Grabowitz
X-WR-CALDESC:
X-MS-OLK-FORCEINSPECTOROPEN:TRUE
BEGIN:VEVENT
DTSTAMP:20260420T212227Z
DTSTART:20260504T151500Z
DTEND:20260504T154500Z
TRANSP:TRANSPARENT
UID:1308792026-05-04
SUMMARY:Theo Grabowitz
DESCRIPTION:
URL:http://www.cmcatlanta.com/index.php/component/ohanah/theo-grabowitz-2?format=html&amp;Itemid=
CATEGORIES:Richelle Nunez
GEO:33.7704955;-84.29584339999997
LOCATION:CMC Decatur, Private Lesson
END:VEVENT
END:VCALENDAR