BEGIN:VCALENDAR
PRODID:-//Feedo Feed//NONSGML v1.0//EN
VERSION:2.0
CALSCALE:GREGORIAN
METHOD:PUBLISH
X-WR-CALNAME:Theo Lenarz
X-WR-CALDESC:
X-MS-OLK-FORCEINSPECTOROPEN:TRUE
BEGIN:VEVENT
DTSTAMP:20260425T104955Z
DTSTART:20260122T160000Z
DTEND:20260122T163000Z
TRANSP:TRANSPARENT
UID:1302652026-01-22
SUMMARY:Theo Lenarz
DESCRIPTION:
URL:http://www.cmcatlanta.com/index.php/component/ohanah/theo-lenarz-1-15?format=html&amp;Itemid=
CATEGORIES:Shawn Charton
GEO:33.7704955;-84.29584339999997
LOCATION:CMC Decatur, Private Lesson
END:VEVENT
END:VCALENDAR