BEGIN:VCALENDAR
PRODID:-//Feedo Feed//NONSGML v1.0//EN
VERSION:2.0
CALSCALE:GREGORIAN
METHOD:PUBLISH
X-WR-CALNAME:Thomas Walke 
X-WR-CALDESC:In person.  Thomas is part of our learning support pod. 
X-MS-OLK-FORCEINSPECTOROPEN:TRUE
BEGIN:VEVENT
DTSTAMP:20260420T195059Z
DTSTART:20210317T170000Z
DTEND:20210318T173000Z
TRANSP:TRANSPARENT
UID:900132021-03-17
SUMMARY:Thomas Walke 
DESCRIPTION:In person.  Thomas is part of our learning support pod. 
URL:http://www.cmcatlanta.com/index.php/component/ohanah/thomas-walke-7-27?format=html&amp;Itemid=
CATEGORIES:Brock Tammeus
GEO:33.7704955;-84.29584339999997
LOCATION:CMC Decatur, Private Lesson
END:VEVENT
END:VCALENDAR