BEGIN:VCALENDAR
PRODID:-//Feedo Feed//NONSGML v1.0//EN
VERSION:2.0
CALSCALE:GREGORIAN
METHOD:PUBLISH
X-WR-CALNAME:Torren Gage
X-WR-CALDESC:
X-MS-OLK-FORCEINSPECTOROPEN:TRUE
BEGIN:VEVENT
DTSTAMP:20260422T160425Z
DTSTART:20210621T173000Z
DTEND:20210621T180000Z
TRANSP:TRANSPARENT
UID:957272021-06-21
SUMMARY:Torren Gage
DESCRIPTION:
URL:http://www.cmcatlanta.com/index.php/component/ohanah/torren-gage?format=html&amp;Itemid=
CATEGORIES:Pedro Morales
GEO:33.7704955;-84.29584339999997
LOCATION:CMC Decatur, Private Lesson
END:VEVENT
END:VCALENDAR