BEGIN:VCALENDAR
PRODID:-//Feedo Feed//NONSGML v1.0//EN
VERSION:2.0
CALSCALE:GREGORIAN
METHOD:PUBLISH
X-WR-CALNAME:trial lesson, Deborah Hakes (two boys, 6 and 8)
X-WR-CALDESC:in person, Dunwoody
X-MS-OLK-FORCEINSPECTOROPEN:TRUE
BEGIN:VEVENT
DTSTAMP:20260422T093134Z
DTSTART:20210520T210000Z
DTEND:20210520T220000Z
TRANSP:TRANSPARENT
UID:951752021-05-20
SUMMARY:trial lesson, Deborah Hakes (two boys, 6 and 8)
DESCRIPTION:in person, Dunwoody
URL:http://www.cmcatlanta.com/index.php/component/ohanah/trial-lesson-deborah-hakes-two-boys-6-and-8?format=html&amp;Itemid=
CATEGORIES:Stephen Pepper
GEO:33.9462125;-84.33464730000003
LOCATION:CMC Dunwoody, Private Lesson
END:VEVENT
END:VCALENDAR