BEGIN:VCALENDAR
PRODID:-//Feedo Feed//NONSGML v1.0//EN
VERSION:2.0
CALSCALE:GREGORIAN
METHOD:PUBLISH
X-WR-CALNAME:Trial Lesson, guitar
X-WR-CALDESC:13 y/o boy.  Several years of playing -- playing a guitar that is a little too small for him but he is attached to it.  Another trial teacher made fun of him and shamed him for it.  I imagine he can move to a larger guitar at some point but not now.  
X-MS-OLK-FORCEINSPECTOROPEN:TRUE
BEGIN:VEVENT
DTSTAMP:20260422T120702Z
DTSTART:20210602T170000Z
DTEND:20210602T173000Z
TRANSP:TRANSPARENT
UID:952082021-06-02
SUMMARY:Trial Lesson, guitar
DESCRIPTION:13 y/o boy.  Several years of playing -- playing a guitar that is a little too small for him but he is attached to it.  Another trial teacher made fun of him and shamed him for it.  I imagine he can move to a larger guitar at some point but not now.  
URL:http://www.cmcatlanta.com/index.php/component/ohanah/trial-lesson-guitar-1?format=html&amp;Itemid=
CATEGORIES:Stephen Pepper
GEO:33.7704955;-84.29584339999997
LOCATION:CMC Decatur, Private Lesson
END:VEVENT
END:VCALENDAR