BEGIN:VCALENDAR
PRODID:-//Feedo Feed//NONSGML v1.0//EN
VERSION:2.0
CALSCALE:GREGORIAN
METHOD:PUBLISH
X-WR-CALNAME:Trial lesson piano
X-WR-CALDESC:
X-MS-OLK-FORCEINSPECTOROPEN:TRUE
BEGIN:VEVENT
DTSTAMP:20260424T085531Z
DTSTART:20170930T130000Z
DTEND:20170930T133000Z
TRANSP:TRANSPARENT
UID:594622017-09-30
SUMMARY:Trial lesson piano
DESCRIPTION:
URL:http://www.cmcatlanta.com/index.php/component/ohanah/trial-lesson-piano-2?format=html&amp;Itemid=
CATEGORIES:Bernie Manela
GEO:33.9462125;-84.33464730000003
LOCATION:CMC Dunwoody, Private Lesson
END:VEVENT
END:VCALENDAR