BEGIN:VCALENDAR
PRODID:-//Feedo Feed//NONSGML v1.0//EN
VERSION:2.0
CALSCALE:GREGORIAN
METHOD:PUBLISH
X-WR-CALNAME:Trial lesson, son of Hera Wang
X-WR-CALDESC:one year of experience. 
X-MS-OLK-FORCEINSPECTOROPEN:TRUE
BEGIN:VEVENT
DTSTAMP:20260421T191107Z
DTSTART:20220805T200000Z
DTEND:20220805T203000Z
TRANSP:TRANSPARENT
UID:1064022022-08-05
SUMMARY:Trial lesson, son of Hera Wang
DESCRIPTION:one year of experience. 
URL:http://www.cmcatlanta.com/index.php/component/ohanah/trial-lesson-son-of-hera-wang?format=html&amp;Itemid=
CATEGORIES:Brock Tammeus
GEO:33.7704955;-84.29584339999997
LOCATION:CMC Decatur, Private Lesson
END:VEVENT
END:VCALENDAR