BEGIN:VCALENDAR
PRODID:-//Feedo Feed//NONSGML v1.0//EN
VERSION:2.0
CALSCALE:GREGORIAN
METHOD:PUBLISH
X-WR-CALNAME:Victor Lin Bjornstrom
X-WR-CALDESC:
X-MS-OLK-FORCEINSPECTOROPEN:TRUE
BEGIN:VEVENT
DTSTAMP:20260420T213001Z
DTSTART:20260518T090000Z
DTEND:20260518T100000Z
TRANSP:TRANSPARENT
UID:1271862026-05-18
SUMMARY:Victor Lin Bjornstrom
DESCRIPTION:
URL:http://www.cmcatlanta.com/index.php/component/ohanah/victor-lin-bjornstrom-40?format=html&amp;Itemid=
CATEGORIES:Stephen Pepper
GEO:33.7646878;-84.35068100000001
LOCATION:CMC Little 5 Points, Private Lesson
END:VEVENT
END:VCALENDAR