BEGIN:VCALENDAR
PRODID:-//Feedo Feed//NONSGML v1.0//EN
VERSION:2.0
CALSCALE:GREGORIAN
METHOD:PUBLISH
X-WR-CALNAME:Violet Lorish
X-WR-CALDESC:
X-MS-OLK-FORCEINSPECTOROPEN:TRUE
BEGIN:VEVENT
DTSTAMP:20260420T221923Z
DTSTART:20220429T203000Z
DTEND:20220429T211500Z
TRANSP:TRANSPARENT
UID:983652022-04-29
SUMMARY:Violet Lorish
DESCRIPTION:
URL:http://www.cmcatlanta.com/index.php/component/ohanah/violet-lorish-76?format=html&amp;Itemid=
CATEGORIES:Peter Sloan
GEO:33.7704955;-84.29584339999997
LOCATION:CMC Decatur, Private Lesson
END:VEVENT
END:VCALENDAR