BEGIN:VCALENDAR
PRODID:-//Feedo Feed//NONSGML v1.0//EN
VERSION:2.0
CALSCALE:GREGORIAN
METHOD:PUBLISH
X-WR-CALNAME:Virginia Woodcock
X-WR-CALDESC:
X-MS-OLK-FORCEINSPECTOROPEN:TRUE
BEGIN:VEVENT
DTSTAMP:20260424T074603Z
DTSTART:20170928T131500Z
DTEND:20170928T140000Z
TRANSP:TRANSPARENT
UID:584402017-09-28
SUMMARY:Virginia Woodcock
DESCRIPTION:
URL:http://www.cmcatlanta.com/index.php/component/ohanah/virginia-woodcock-2?format=html&amp;Itemid=
CATEGORIES:Richard Mills
GEO:
LOCATION:CMC Brookhaven, Faculty Assignment
END:VEVENT
END:VCALENDAR