BEGIN:VCALENDAR
PRODID:-//Feedo Feed//NONSGML v1.0//EN
VERSION:2.0
CALSCALE:GREGORIAN
METHOD:PUBLISH
X-WR-CALNAME:William Rose
X-WR-CALDESC:
X-MS-OLK-FORCEINSPECTOROPEN:TRUE
BEGIN:VEVENT
DTSTAMP:20260424T032614Z
DTSTART:20180320T213000Z
DTEND:20180320T220000Z
TRANSP:TRANSPARENT
UID:533482018-03-20
SUMMARY:William Rose
DESCRIPTION:
URL:http://www.cmcatlanta.com/index.php/component/ohanah/william-rose-143?format=html&amp;Itemid=
CATEGORIES:Carolyn Johnston
GEO:33.7704955;-84.29584339999997
LOCATION:CMC Decatur, Private Lesson
END:VEVENT
END:VCALENDAR