BEGIN:VCALENDAR
PRODID:-//Feedo Feed//NONSGML v1.0//EN
VERSION:2.0
CALSCALE:GREGORIAN
METHOD:PUBLISH
X-WR-CALNAME:Winter Break
X-WR-CALDESC:All programs at all locations are closed from Monday, December 20th through Monday, January 3rd.  We will reopen on Tuesday, January 4th.  Have a wonderful winter break!
X-MS-OLK-FORCEINSPECTOROPEN:TRUE
BEGIN:VEVENT
DTSTAMP:20260424T231456Z
DTSTART:20211220T040000Z
DTEND:20220103T220000Z
TRANSP:TRANSPARENT
UID:1049852021-12-20
SUMMARY:Winter Break
DESCRIPTION:All programs at all locations are closed from Monday, December 20th through Monday, January 3rd.  We will reopen on Tuesday, January 4th.  Have a wonderful winter break!
URL:http://www.cmcatlanta.com/index.php/component/ohanah/winter-break?format=html&amp;Itemid=
CATEGORIES:Master Calendar
GEO:33.7646878;-84.35068100000001
LOCATION:CMC Little 5 Points 
END:VEVENT
END:VCALENDAR