BEGIN:VCALENDAR
PRODID:-//Feedo Feed//NONSGML v1.0//EN
VERSION:2.0
CALSCALE:GREGORIAN
METHOD:PUBLISH
X-WR-CALNAME:Wizard's Music Academy : Daily Lesson Plans
X-WR-CALDESC:7:45: Open Building\n8:00-9:00 Dropoff\n9:00: Class I: Severus Snape's Swish and Flick Rhythm Play-Potter Puppet Pals (link to youtube video in lesson plan; be sure to cover basic rhythms on this day only! Introduce notes, rests, sense of metronomic pulse.)\n10:15-10:45: Snack\n10:45-12:00: Class II: Care (and Creation) of Magical Creatures: Sorting Hat Craft Party (click link for instructions); will be a multi-day activity\n12:00-1:00: Lunch at the Leaky Cauldron\n1:00-2:15: Class III: Wailing Witches Singing Class: Wizarding Songbook Greatest Hits Introduction (Click link); play sound clips as introductory class; MAIN assignment is to compose a tune for the Sorting Hat's Song! Be creative!\n2:15-3:00: Snack: Perhaps a match or two of Quidditch? Also see HERE for the official rules. \n3:00-4:00: Class IV: Care (and Creation) of Magical Creatures part 2: WAND FACTORY for Ollivander's Oscillating Ostinato: This will be a multi-day activity involving a hot glue gun and everyone taking turns waiting for glue to dry/paint to cure. Please use your very best judgment when young Wizards have down time: assess the need for activities from here: Fun Harry Potter Online Games and Sites.\n4:00-6:00: Choices, Practice, Free time, Transfiguration.
X-MS-OLK-FORCEINSPECTOROPEN:TRUE
BEGIN:VEVENT
DTSTAMP:20260422T190029Z
DTSTART:20210706T120000Z
DTEND:20210706T220000Z
TRANSP:TRANSPARENT
UID:760672021-07-06
SUMMARY:Wizard's Music Academy : Daily Lesson Plans
DESCRIPTION:7:45: Open Building\n8:00-9:00 Dropoff\n9:00: Class I: Severus Snape's Swish and Flick Rhythm Play-Potter Puppet Pals (link to youtube video in lesson plan; be sure to cover basic rhythms on this day only! Introduce notes, rests, sense of metronomic pulse.)\n10:15-10:45: Snack\n10:45-12:00: Class II: Care (and Creation) of Magical Creatures: Sorting Hat Craft Party (click link for instructions); will be a multi-day activity\n12:00-1:00: Lunch at the Leaky Cauldron\n1:00-2:15: Class III: Wailing Witches Singing Class: Wizarding Songbook Greatest Hits Introduction (Click link); play sound clips as introductory class; MAIN assignment is to compose a tune for the Sorting Hat's Song! Be creative!\n2:15-3:00: Snack: Perhaps a match or two of Quidditch? Also see HERE for the official rules. \n3:00-4:00: Class IV: Care (and Creation) of Magical Creatures part 2: WAND FACTORY for Ollivander's Oscillating Ostinato: This will be a multi-day activity involving a hot glue gun and everyone taking turns waiting for glue to dry/paint to cure. Please use your very best judgment when young Wizards have down time: assess the need for activities from here: Fun Harry Potter Online Games and Sites.\n4:00-6:00: Choices, Practice, Free time, Transfiguration.
URL:http://www.cmcatlanta.com/index.php/component/ohanah/wizard-s-music-academy-daily-lesson-plans?format=html&amp;Itemid=
CATEGORIES:Daily Lesson Plans
GEO:33.94902;-84.33631689999999
LOCATION:CMC Dunwoody, Faculty Assignment
END:VEVENT
END:VCALENDAR