BEGIN:VCALENDAR
PRODID:-//Feedo Feed//NONSGML v1.0//EN
VERSION:2.0
CALSCALE:GREGORIAN
METHOD:PUBLISH
X-WR-CALNAME:Wizard's Music Academy : Daily Lesson Plans
X-WR-CALDESC:7:45: Open Building\n8:00-9:00 Dropoff\n9:00: Class I: The Importance of Music in the Wizarding World: An Introduction to Wizards Music Academy (click for link to lesson plan)\n10:15-10:45: Snack\n10:45-12:00: Class II: Wailing Witches Singing Class: Wizarding Songbook Greatest Hits Introduction (Click link); play sound clips as introductory class.  Sorting Hat Song.  \n12:00-1:00: Lunch at the Leaky Cauldron\n1:00-2:15: Class III: Care (and Creation) of Magical Creatures: Sorting Hat Craft Party (click link for instructions); will be a multi-day activity\n2:15-3:00: Snack: Perhaps a match or two of Quidditch? Also see HERE for the official rules. \n3:00-4:00: Class IV: Potions: Spellbound Rhythm Charms (click for lesson plan; adjust for ages and levels of Wizards)\n4:00-6:00: Choices, Practice, Free time, Transfiguration.
X-MS-OLK-FORCEINSPECTOROPEN:TRUE
BEGIN:VEVENT
DTSTAMP:20260422T174450Z
DTSTART:20210705T120000Z
DTEND:20210705T220000Z
TRANSP:TRANSPARENT
UID:760662021-07-05
SUMMARY:Wizard's Music Academy : Daily Lesson Plans
DESCRIPTION:7:45: Open Building\n8:00-9:00 Dropoff\n9:00: Class I: The Importance of Music in the Wizarding World: An Introduction to Wizards Music Academy (click for link to lesson plan)\n10:15-10:45: Snack\n10:45-12:00: Class II: Wailing Witches Singing Class: Wizarding Songbook Greatest Hits Introduction (Click link); play sound clips as introductory class.  Sorting Hat Song.  \n12:00-1:00: Lunch at the Leaky Cauldron\n1:00-2:15: Class III: Care (and Creation) of Magical Creatures: Sorting Hat Craft Party (click link for instructions); will be a multi-day activity\n2:15-3:00: Snack: Perhaps a match or two of Quidditch? Also see HERE for the official rules. \n3:00-4:00: Class IV: Potions: Spellbound Rhythm Charms (click for lesson plan; adjust for ages and levels of Wizards)\n4:00-6:00: Choices, Practice, Free time, Transfiguration.
URL:http://www.cmcatlanta.com/index.php/component/ohanah/wizards-music-academy-daily-lesson-plans?format=html&amp;Itemid=
CATEGORIES:Daily Lesson Plans
GEO:33.94902;-84.33631689999999
LOCATION:CMC Dunwoody, Faculty Assignment
END:VEVENT
END:VCALENDAR