BEGIN:VCALENDAR
PRODID:-//Feedo Feed//NONSGML v1.0//EN
VERSION:2.0
CALSCALE:GREGORIAN
METHOD:PUBLISH
X-WR-CALNAME:re:Percussions Optional Dress Rehearsal
X-WR-CALDESC:Students must attend one of three Saturday rehearsals.   March 7, 14 or 21
X-MS-OLK-FORCEINSPECTOROPEN:TRUE
BEGIN:VEVENT
DTSTAMP:20260420T115204Z
DTSTART:20260321T090000Z
DTEND:20260321T110000Z
TRANSP:TRANSPARENT
UID:1307332026-03-21
SUMMARY:re:Percussions Optional Dress Rehearsal
DESCRIPTION:Students must attend one of three Saturday rehearsals.   March 7, 14 or 21
URL:http://www.cmcatlanta.com/index.php/resources/master-calendar/re-percussions-optional-dress-rehearsal-2?format=html
CATEGORIES:Master Calendar
GEO:33.7704955;-84.29584339999997
LOCATION:CMC Decatur
END:VEVENT
END:VCALENDAR